BEGIN:VCALENDAR
VERSION:2.0
PRODID:-//Rødovre Køreskole ApS - ECPv6.9.0//NONSGML v1.0//EN
CALSCALE:GREGORIAN
METHOD:PUBLISH
X-WR-CALNAME:Rødovre Køreskole ApS
X-ORIGINAL-URL:https://xn--rdovrekreskole-qqbg.dk
X-WR-CALDESC:Begivenheder for Rødovre Køreskole ApS
REFRESH-INTERVAL;VALUE=DURATION:PT1H
X-Robots-Tag:noindex
X-PUBLISHED-TTL:PT1H
BEGIN:VTIMEZONE
TZID:Europe/Copenhagen
BEGIN:DAYLIGHT
TZOFFSETFROM:+0100
TZOFFSETTO:+0200
TZNAME:CEST
DTSTART:20260329T010000
END:DAYLIGHT
BEGIN:STANDARD
TZOFFSETFROM:+0200
TZOFFSETTO:+0100
TZNAME:CET
DTSTART:20261025T010000
END:STANDARD
END:VTIMEZONE
BEGIN:VEVENT
DTSTART;TZID=Europe/Copenhagen:20260422T181500
DTEND;TZID=Europe/Copenhagen:20260422T211500
DTSTAMP:20260419T183553
CREATED:20260109T151311Z
LAST-MODIFIED:20260109T151311Z
UID:10001260-1776881700-1776892500@xn--rdovrekreskole-qqbg.dk
SUMMARY:Teori 5 - Onsdagshold
DESCRIPTION:Teori 5 lektion 24\, 25 og 26 (3 x 45 = 135 min) \nManøvrer på vej\n7.11 Fremkørsel mod vejkryds\n7.12 Ligeud kørsel i vejkryds \nRepetition af tidligere emner \nEVALUERENDE EMNEPRØVE
URL:https://xn--rdovrekreskole-qqbg.dk/kalender/teori-5-onsdagshold-22/2026-04-22/
CATEGORIES:Teori 5 - Onsdagshold
END:VEVENT
BEGIN:VEVENT
DTSTART;TZID=Europe/Copenhagen:20260511T181500
DTEND;TZID=Europe/Copenhagen:20260511T211500
DTSTAMP:20260419T183553
CREATED:20260109T151426Z
LAST-MODIFIED:20260109T151426Z
UID:10001264-1778523300-1778534100@xn--rdovrekreskole-qqbg.dk
SUMMARY:Teori 5 - Mandagshold
DESCRIPTION:Teori 5 lektion 24\, 25 og 26 (3 x 45 = 135 min) \nManøvrer på vej\n7.11 Fremkørsel mod vejkryds\n7.12 Ligeud kørsel i vejkryds \nRepetition af tidligere emner \nEVALUERENDE EMNEPRØVE
URL:https://xn--rdovrekreskole-qqbg.dk/kalender/teori-5-mandagshold-21/2026-05-11/
CATEGORIES:Teori 5 - mandagshold
END:VEVENT
BEGIN:VEVENT
DTSTART;TZID=Europe/Copenhagen:20260602T181500
DTEND;TZID=Europe/Copenhagen:20260602T211500
DTSTAMP:20260419T183553
CREATED:20260109T145723Z
LAST-MODIFIED:20260109T145723Z
UID:10001255-1780424100-1780434900@xn--rdovrekreskole-qqbg.dk
SUMMARY:Teori 5 - Tirsdagshold
DESCRIPTION:Teori 5 lektion 24\, 25 og 26 (3 x 45 = 135 min) \nManøvrer på vej\n7.11 Fremkørsel mod vejkryds\n7.12 Ligeud kørsel i vejkryds \nRepetition af tidligere emner \nEVALUERENDE EMNEPRØVE
URL:https://xn--rdovrekreskole-qqbg.dk/kalender/teori-5-tirsdagshold-21/2026-06-02/
CATEGORIES:Teori 5 - tirsdagshold
END:VEVENT
END:VCALENDAR