BEGIN:VCALENDAR
VERSION:2.0
PRODID:-//Rødovre Køreskole ApS - ECPv6.9.0//NONSGML v1.0//EN
CALSCALE:GREGORIAN
METHOD:PUBLISH
X-WR-CALNAME:Rødovre Køreskole ApS
X-ORIGINAL-URL:https://xn--rdovrekreskole-qqbg.dk
X-WR-CALDESC:Begivenheder for Rødovre Køreskole ApS
REFRESH-INTERVAL;VALUE=DURATION:PT1H
X-Robots-Tag:noindex
X-PUBLISHED-TTL:PT1H
BEGIN:VTIMEZONE
TZID:Europe/Copenhagen
BEGIN:DAYLIGHT
TZOFFSETFROM:+0100
TZOFFSETTO:+0200
TZNAME:CEST
DTSTART:20260329T010000
END:DAYLIGHT
BEGIN:STANDARD
TZOFFSETFROM:+0200
TZOFFSETTO:+0100
TZNAME:CET
DTSTART:20261025T010000
END:STANDARD
END:VTIMEZONE
BEGIN:VEVENT
DTSTART;TZID=Europe/Copenhagen:20260420T181500
DTEND;TZID=Europe/Copenhagen:20260420T211500
DTSTAMP:20260419T183552
CREATED:20260109T143719Z
LAST-MODIFIED:20260109T143719Z
UID:10001214-1776708900-1776719700@xn--rdovrekreskole-qqbg.dk
SUMMARY:Teori 2 - Mandagshold
DESCRIPTION:Teori 2 lektion 5\, 6\, 7 og 8 (4 x 45= 180 min.) \nKøretøjers manøvre-egenskaber\n3.1  Fartegenskaber\nStyreegenskaber\nFørerens orienteringsvilkår\n3.2  Person- og varebiler. Lastbiler\, herunder busser\nBiler med påhængskøretøj\nTraktorer\, herunder motorredskaber\nMotorcykler og stor knallert (registreringspligtig)\nLille knallert (ikke registreringspligtige) og cykler \nTrafikantadfærd\n4.1  Bilistens vigtigste opgave\nReaktionstiden\nOpfattelses- og reaktionsevnens begrænsning\nForbedring af opfattelses- og reaktionsevnen\nMobiltelefoners indvirken på reaktionsevne\n4.2  Syns- og bevægelsesretning\n4.3  Bedømmelse af afstand\nBedømmelse af egen hastighed\nBedømmelse af andres hastighed\n4.4  Alkohol og Narkotika\nSygdom\, medicin\, træthed\n4.5  Ulykker\, alder og trafikant art\nAldersbetingede vanskeligheder\n4.6  Kendetegn på alder\, opmærksomhed og hensigt\nSærligt udsatte trafikanters typiske fejl\n4.7  Holdninger\nAdfærd\nRisikoblindhed \nVejforhold\n5.1  Vejenes brug\n5.2  Risikoforhold ved vejene \nEVALUERENDE EMNEPRØVE
URL:https://xn--rdovrekreskole-qqbg.dk/kalender/teori-2-mandagshold-23/
CATEGORIES:Teori 2 - mandagshold
END:VEVENT
BEGIN:VEVENT
DTSTART;TZID=Europe/Copenhagen:20260512T181500
DTEND;TZID=Europe/Copenhagen:20260512T211500
DTSTAMP:20260419T183552
CREATED:20260109T143754Z
LAST-MODIFIED:20260109T143754Z
UID:10001215-1778609700-1778620500@xn--rdovrekreskole-qqbg.dk
SUMMARY:Teori 2 - Tirsdagshold
DESCRIPTION:Teori 2 lektion 5\, 6\, 7 og 8 (4 x 45= 180 min.) \nKøretøjers manøvre-egenskaber\n3.1  Fartegenskaber\nStyreegenskaber\nFørerens orienteringsvilkår\n3.2  Person- og varebiler. Lastbiler\, herunder busser\nBiler med påhængskøretøj\nTraktorer\, herunder motorredskaber\nMotorcykler og stor knallert (registreringspligtig)\nLille knallert (ikke registreringspligtige) og cykler \nTrafikantadfærd\n4.1  Bilistens vigtigste opgave\nReaktionstiden\nOpfattelses- og reaktionsevnens begrænsning\nForbedring af opfattelses- og reaktionsevnen\nMobiltelefoners indvirken på reaktionsevne\n4.2  Syns- og bevægelsesretning\n4.3  Bedømmelse af afstand\nBedømmelse af egen hastighed\nBedømmelse af andres hastighed\n4.4  Alkohol og Narkotika\nSygdom\, medicin\, træthed\n4.5  Ulykker\, alder og trafikant art\nAldersbetingede vanskeligheder\n4.6  Kendetegn på alder\, opmærksomhed og hensigt\nSærligt udsatte trafikanters typiske fejl\n4.7  Holdninger\nAdfærd\nRisikoblindhed \nVejforhold\n5.1  Vejenes brug\n5.2  Risikoforhold ved vejene \nEVALUERENDE EMNEPRØVE
URL:https://xn--rdovrekreskole-qqbg.dk/kalender/teori-2-tirsdagshold-22/
CATEGORIES:Teori 2 - tirsdagshold
END:VEVENT
BEGIN:VEVENT
DTSTART;TZID=Europe/Copenhagen:20260603T181500
DTEND;TZID=Europe/Copenhagen:20260603T211500
DTSTAMP:20260419T183552
CREATED:20260109T143827Z
LAST-MODIFIED:20260109T143827Z
UID:10001216-1780510500-1780521300@xn--rdovrekreskole-qqbg.dk
SUMMARY:Teori 2 - Onsdagshold
DESCRIPTION:Teori 2 lektion 5\, 6\, 7 og 8 (4 x 45= 180 min.) \nKøretøjers manøvre-egenskaber\n3.1  Fartegenskaber\nStyreegenskaber\nFørerens orienteringsvilkår\n3.2  Person- og varebiler. Lastbiler\, herunder busser\nBiler med påhængskøretøj\nTraktorer\, herunder motorredskaber\nMotorcykler og stor knallert (registreringspligtig)\nLille knallert (ikke registreringspligtige) og cykler \nTrafikantadfærd\n4.1  Bilistens vigtigste opgave\nReaktionstiden\nOpfattelses- og reaktionsevnens begrænsning\nForbedring af opfattelses- og reaktionsevnen\nMobiltelefoners indvirken på reaktionsevne\n4.2  Syns- og bevægelsesretning\n4.3  Bedømmelse af afstand\nBedømmelse af egen hastighed\nBedømmelse af andres hastighed\n4.4  Alkohol og Narkotika\nSygdom\, medicin\, træthed\n4.5  Ulykker\, alder og trafikant art\nAldersbetingede vanskeligheder\n4.6  Kendetegn på alder\, opmærksomhed og hensigt\nSærligt udsatte trafikanters typiske fejl\n4.7  Holdninger\nAdfærd\nRisikoblindhed \nVejforhold\n5.1  Vejenes brug\n5.2  Risikoforhold ved vejene \nEVALUERENDE EMNEPRØVE
URL:https://xn--rdovrekreskole-qqbg.dk/kalender/teori-2-onsdagshold-24/
CATEGORIES:Teori 2 - Onsdagshold
END:VEVENT
END:VCALENDAR