BEGIN:VCALENDAR
VERSION:2.0
PRODID:-//Rødovre Køreskole ApS - ECPv6.9.0//NONSGML v1.0//EN
CALSCALE:GREGORIAN
METHOD:PUBLISH
X-WR-CALNAME:Rødovre Køreskole ApS
X-ORIGINAL-URL:https://xn--rdovrekreskole-qqbg.dk
X-WR-CALDESC:Begivenheder for Rødovre Køreskole ApS
REFRESH-INTERVAL;VALUE=DURATION:PT1H
X-Robots-Tag:noindex
X-PUBLISHED-TTL:PT1H
BEGIN:VTIMEZONE
TZID:Europe/Copenhagen
BEGIN:DAYLIGHT
TZOFFSETFROM:+0100
TZOFFSETTO:+0200
TZNAME:CEST
DTSTART:20260329T010000
END:DAYLIGHT
BEGIN:STANDARD
TZOFFSETFROM:+0200
TZOFFSETTO:+0100
TZNAME:CET
DTSTART:20261025T010000
END:STANDARD
END:VTIMEZONE
BEGIN:VEVENT
DTSTART;TZID=Europe/Copenhagen:20260421T170000
DTEND;TZID=Europe/Copenhagen:20260421T180000
DTSTAMP:20260421T015340
CREATED:20260114T193110Z
LAST-MODIFIED:20260323T194125Z
UID:10001399-1776790800-1776794400@xn--rdovrekreskole-qqbg.dk
SUMMARY:Prøveteori
DESCRIPTION:Kom og øv dig til teoriprøven \nVi laver 2 prøver\, som en kørelærer gennemgår vedr. fejl og spørgsmål
URL:https://xn--rdovrekreskole-qqbg.dk/kalender/proeveteori-54/2026-04-21/
CATEGORIES:Holdstart
END:VEVENT
BEGIN:VEVENT
DTSTART;TZID=Europe/Copenhagen:20260421T181500
DTEND;TZID=Europe/Copenhagen:20260421T211500
DTSTAMP:20260421T015340
CREATED:20260109T152355Z
LAST-MODIFIED:20260109T152355Z
UID:10001308-1776795300-1776806100@xn--rdovrekreskole-qqbg.dk
SUMMARY:Teori 8 - Tirsdagshold
DESCRIPTION:Teori 8 lektion 39\, 40 og 41 (3 x 45 min = 135 min.)  \nManøvrer på vej\n7.18 Standsning og parkering\n7.19 Kørsel i mørke og lygtetændingstid i øvrigt\n7.20 Kørsel i tunnel\n7.21 Letbane\nRepetition af tidligere lektioner \nEVALUERENDE TEORIPRØVE
URL:https://xn--rdovrekreskole-qqbg.dk/kalender/teori-8-tirsdagshold-22/2026-04-21/
CATEGORIES:Teori 8 - tirsdagshold
END:VEVENT
END:VCALENDAR